BEGIN:VCALENDAR
VERSION:2.0
PRODID:-//Tukios.com/
BEGIN:VEVENT
UID:518fd5ae-777a-4532-8c91-87f7cdef36bd@www.mcarthurfuneralservices.com
DTSTAMP:20260423T021004Z
DTSTART:20260425T150000Z
DTEND:20260425T163000Z
SUMMARY:Visitation
DESCRIPTION:
URL:https://www.mcarthurfuneralservices.com/obituaries/brian-ashcroft
LOCATION: 160 West 700 South  St. George UT 84770
GEO:37.096516;-113.5863758
END:VEVENT
END:VCALENDAR