BEGIN:VCALENDAR
VERSION:2.0
PRODID:-//Tukios.com/
BEGIN:VEVENT
UID:4aa3dc17-bc65-4304-8d10-cb149d261871@www.mcarthurfuneralservices.com
DTSTAMP:20260423T020943Z
DTSTART:20260425T170000Z
DTEND:20260425T180000Z
SUMMARY:Funeral Service
DESCRIPTION:
URL:https://www.mcarthurfuneralservices.com/obituaries/brian-ashcroft
LOCATION: 160 West 700 South  St. George UT 84770
GEO:37.096516;-113.5863758
END:VEVENT
END:VCALENDAR