BEGIN:VCALENDAR
VERSION:2.0
PRODID:-//Tukios.com/
BEGIN:VEVENT
UID:65e529b8-6cd4-4957-a387-870299536265@www.mcarthurfuneralservices.com
DTSTAMP:20260423T021451Z
DTSTART:20260425T183000Z
DTEND:20260425T193000Z
SUMMARY:Interment
DESCRIPTION:
URL:https://www.mcarthurfuneralservices.com/obituaries/brian-ashcroft
LOCATION: 1777 S Dixie Dr  St. George UT 84770
GEO:37.0797755;-113.6014936
END:VEVENT
END:VCALENDAR