BEGIN:VCALENDAR
VERSION:2.0
PRODID:-//Tukios.com/
BEGIN:VEVENT
UID:6b232b3f-658b-4f70-8449-79dce6b3648b@www.mcarthurfuneralservices.com
DTSTAMP:20260422T030807Z
DTSTART:20260424T150000Z
DTEND:20260424T154500Z
SUMMARY:Viewing
DESCRIPTION:
URL:https://www.mcarthurfuneralservices.com/obituaries/jerold-hilton
LOCATION: 160 West 700 South  St. George UT 84770
GEO:37.096516;-113.5863758
END:VEVENT
END:VCALENDAR