BEGIN:VCALENDAR
VERSION:2.0
PRODID:-//Tukios.com/
BEGIN:VEVENT
UID:816b44af-73d6-4885-a653-688101a6866c@www.mcarthurfuneralservices.com
DTSTAMP:20260422T031336Z
DTSTART:20260424T160000Z
DTEND:20260424T170000Z
SUMMARY:Funeral Service
DESCRIPTION:
URL:https://www.mcarthurfuneralservices.com/obituaries/jerold-hilton
LOCATION:McArthur Funeral Home and Cremation Center 160 West 700 South  
	St. George UT 84770
GEO:37.0965845;-113.5863731
END:VEVENT
END:VCALENDAR