BEGIN:VCALENDAR
VERSION:2.0
PRODID:-//Tukios.com/
BEGIN:VEVENT
UID:469edbd5-4fd6-486b-819d-28697f587cea@www.mcarthurfuneralservices.com
DTSTAMP:20260422T031514Z
DTSTART:20260425T180000Z
DTEND:20260425T183000Z
SUMMARY:Interment
DESCRIPTION:
URL:https://www.mcarthurfuneralservices.com/obituaries/jerold-hilton
LOCATION:Mountain View Cemetery 934 Sweetwater Road  Dillon MT 59725
GEO:45.2182693;-112.6025612
END:VEVENT
END:VCALENDAR