BEGIN:VCALENDAR
VERSION:2.0
PRODID:-//Tukios.com/
BEGIN:VEVENT
UID:34720d5b-a87b-4958-b999-2dcac28df231@www.mcarthurfuneralservices.com
DTSTAMP:20260422T231446Z
DTSTART:20260426T233000Z
DTEND:20260427T013000Z
SUMMARY:Viewing
DESCRIPTION:
URL:https://www.mcarthurfuneralservices.com/obituaries/preston-jenkins
LOCATION: 160 West 700 South  St. George UT 84770
GEO:37.096516;-113.5863758
END:VEVENT
END:VCALENDAR