BEGIN:VCALENDAR
VERSION:2.0
PRODID:-//Tukios.com/
BEGIN:VEVENT
UID:f8477aba-dadb-4c34-ba2c-59631f3321fd@www.mcarthurfuneralservices.com
DTSTAMP:20260422T231445Z
DTSTART:20260427T160000Z
DTEND:20260427T173000Z
SUMMARY:Funeral Service
DESCRIPTION:
URL:https://www.mcarthurfuneralservices.com/obituaries/preston-jenkins
LOCATION: 160 West 700 South  St. George UT 84770
GEO:37.096516;-113.5863758
END:VEVENT
END:VCALENDAR