BEGIN:VCALENDAR
VERSION:2.0
PRODID:-//Tukios.com/
BEGIN:VEVENT
UID:9b0994de-1fcb-43a0-962d-2680e7eb4d7c@www.mcarthurfuneralservices.com
DTSTAMP:20260422T232002Z
DTSTART:20260427T183000Z
DTEND:20260427T193000Z
SUMMARY:Interment
DESCRIPTION:
URL:https://www.mcarthurfuneralservices.com/obituaries/preston-jenkins
LOCATION: 225 E 600 N  Hurricane UT 84737
GEO:37.1855024;-113.2838305
END:VEVENT
END:VCALENDAR