BEGIN:VCALENDAR
VERSION:2.0
PRODID:-//Tukios.com/
BEGIN:VEVENT
UID:8dc0d833-cef3-4e92-affd-fa63fae7b823@www.mcarthurfuneralservices.com
DTSTAMP:20260423T021004Z
DTSTART:20260425T010000Z
DTEND:20260425T030000Z
SUMMARY:Viewing
DESCRIPTION:
URL:https://www.mcarthurfuneralservices.com/obituaries/russell-peine
LOCATION: 160 West 700 South  St. George UT 84770
GEO:37.096516;-113.5863758
END:VEVENT
END:VCALENDAR