BEGIN:VCALENDAR
VERSION:2.0
PRODID:-//Tukios.com/
BEGIN:VEVENT
UID:f51899ac-9417-4ddd-bf78-3fd68d7aeb1b@www.mcarthurfuneralservices.com
DTSTAMP:20260423T020943Z
DTSTART:20260425T190000Z
DTEND:20260425T200000Z
SUMMARY:Funeral Service
DESCRIPTION:
URL:https://www.mcarthurfuneralservices.com/obituaries/russell-peine
LOCATION:LDS Chapel 2555 N. Joseph Street  Moapa Valley NV 89021
GEO:36.5871168;-114.4614264
END:VEVENT
END:VCALENDAR