BEGIN:VCALENDAR
VERSION:2.0
PRODID:-//Tukios.com/
BEGIN:VEVENT
UID:97d9d60b-1c48-4544-8640-63cde4925898@www.mcarthurfuneralservices.com
DTSTAMP:20260423T021308Z
DTSTART:20260425T173000Z
DTEND:20260425T183000Z
SUMMARY:Viewing
DESCRIPTION:
URL:https://www.mcarthurfuneralservices.com/obituaries/russell-peine
LOCATION: 2555 N. Joseph Street  Moapa Valley NV 89021
GEO:36.5871168;-114.4614264
END:VEVENT
END:VCALENDAR